BEGIN:VCALENDAR
VERSION:2.0
PRODID:-//Arts Access Program - ECPv6.15.20//NONSGML v1.0//EN
CALSCALE:GREGORIAN
METHOD:PUBLISH
X-ORIGINAL-URL:https://artsaccessprogram.org
X-WR-CALDESC:Events for Arts Access Program
REFRESH-INTERVAL;VALUE=DURATION:PT1H
X-Robots-Tag:noindex
X-PUBLISHED-TTL:PT1H
BEGIN:VTIMEZONE
TZID:America/New_York
BEGIN:DAYLIGHT
TZOFFSETFROM:-0500
TZOFFSETTO:-0400
TZNAME:EDT
DTSTART:20210314T070000
END:DAYLIGHT
BEGIN:STANDARD
TZOFFSETFROM:-0400
TZOFFSETTO:-0500
TZNAME:EST
DTSTART:20211107T060000
END:STANDARD
BEGIN:DAYLIGHT
TZOFFSETFROM:-0500
TZOFFSETTO:-0400
TZNAME:EDT
DTSTART:20220313T070000
END:DAYLIGHT
BEGIN:STANDARD
TZOFFSETFROM:-0400
TZOFFSETTO:-0500
TZNAME:EST
DTSTART:20221106T060000
END:STANDARD
BEGIN:DAYLIGHT
TZOFFSETFROM:-0500
TZOFFSETTO:-0400
TZNAME:EDT
DTSTART:20230312T070000
END:DAYLIGHT
BEGIN:STANDARD
TZOFFSETFROM:-0400
TZOFFSETTO:-0500
TZNAME:EST
DTSTART:20231105T060000
END:STANDARD
END:VTIMEZONE
BEGIN:VEVENT
DTSTART;VALUE=DATE:20221209
DTEND;VALUE=DATE:20221224
DTSTAMP:20260424T090349
CREATED:20221122T082137Z
LAST-MODIFIED:20250410T201145Z
UID:10000018-1670544000-1671839999@artsaccessprogram.org
SUMMARY:Art Without Limits at Kathryn Markel Fine Arts
DESCRIPTION:Arts Access presents\, “Art Without Limits\,” an exhibition of paintings by the Arts Access artists from December 9 – 23\, 2022\, at Kathryn Markel Fine Arts gallery in New York City. \nJoin us for an in-person opening reception on Saturday\, December 10\, from 3-6pm to celebrate this talented group of artists. Kathryn Markel Fine Arts is located at 529 W 20th Street\, Suite 6W\, New York\, NY. Visit markelfinearts.com or call 212-366-5368 for more information. \nThe gallery is open to the public Tuesday-Friday from 10am-6pm and Saturdays from 11am-6pm.
URL:https://artsaccessprogram.org/event/expressions-a-survey-of-work-by-the-arts-access-program-2/
LOCATION:Kathryn Markel Fine Arts\, 520 W 20th Street Suite 6W\, New York\, NY\, 10011\, United States
CATEGORIES:Exhibits
ATTACH;FMTTYPE=image/jpeg:https://artsaccessprogram.org/wp-content/uploads/2022/11/CChe_531_web-800x525-1.jpg
END:VEVENT
END:VCALENDAR