BEGIN:VCALENDAR
VERSION:2.0
PRODID:-//Arts Access Program - ECPv6.15.20//NONSGML v1.0//EN
CALSCALE:GREGORIAN
METHOD:PUBLISH
X-ORIGINAL-URL:https://artsaccessprogram.org
X-WR-CALDESC:Events for Arts Access Program
REFRESH-INTERVAL;VALUE=DURATION:PT1H
X-Robots-Tag:noindex
X-PUBLISHED-TTL:PT1H
BEGIN:VTIMEZONE
TZID:America/New_York
BEGIN:DAYLIGHT
TZOFFSETFROM:-0500
TZOFFSETTO:-0400
TZNAME:EDT
DTSTART:20220313T070000
END:DAYLIGHT
BEGIN:STANDARD
TZOFFSETFROM:-0400
TZOFFSETTO:-0500
TZNAME:EST
DTSTART:20221106T060000
END:STANDARD
BEGIN:DAYLIGHT
TZOFFSETFROM:-0500
TZOFFSETTO:-0400
TZNAME:EDT
DTSTART:20230312T070000
END:DAYLIGHT
BEGIN:STANDARD
TZOFFSETFROM:-0400
TZOFFSETTO:-0500
TZNAME:EST
DTSTART:20231105T060000
END:STANDARD
BEGIN:DAYLIGHT
TZOFFSETFROM:-0500
TZOFFSETTO:-0400
TZNAME:EDT
DTSTART:20240310T070000
END:DAYLIGHT
BEGIN:STANDARD
TZOFFSETFROM:-0400
TZOFFSETTO:-0500
TZNAME:EST
DTSTART:20241103T060000
END:STANDARD
END:VTIMEZONE
BEGIN:VEVENT
DTSTART;VALUE=DATE:20230801
DTEND;VALUE=DATE:20230901
DTSTAMP:20260419T125211
CREATED:20230731T192357Z
LAST-MODIFIED:20250410T200603Z
UID:10000024-1690848000-1693526399@artsaccessprogram.org
SUMMARY:Windows at Studio Montclair
DESCRIPTION:Starting next week\, eight of our artists will have their work on display in the Windows at Studio Montclair for the month of August! The Windows at Studio Montclair Gallery is an exciting alternative venue for members to curate small group and solo exhibits. \nAdditionally\, visit Studio Montclair on August 5 for an opening reception for the Windows and the inside gallery exhibit.
URL:https://artsaccessprogram.org/event/windows-at-studio-montclair/
LOCATION:The Windows at Studio Montclair
CATEGORIES:Exhibits
ATTACH;FMTTYPE=image/jpeg:https://artsaccessprogram.org/wp-content/uploads/2023/07/SMI-Windows-2023_cropped.jpg
END:VEVENT
END:VCALENDAR