BEGIN:VCALENDAR
VERSION:2.0
PRODID:-//Arts Access Program - ECPv6.15.20//NONSGML v1.0//EN
CALSCALE:GREGORIAN
METHOD:PUBLISH
X-WR-CALNAME:Arts Access Program
X-ORIGINAL-URL:https://artsaccessprogram.org
X-WR-CALDESC:Events for Arts Access Program
REFRESH-INTERVAL;VALUE=DURATION:PT1H
X-Robots-Tag:noindex
X-PUBLISHED-TTL:PT1H
BEGIN:VTIMEZONE
TZID:America/New_York
BEGIN:DAYLIGHT
TZOFFSETFROM:-0500
TZOFFSETTO:-0400
TZNAME:EDT
DTSTART:20250309T070000
END:DAYLIGHT
BEGIN:STANDARD
TZOFFSETFROM:-0400
TZOFFSETTO:-0500
TZNAME:EST
DTSTART:20251102T060000
END:STANDARD
BEGIN:DAYLIGHT
TZOFFSETFROM:-0500
TZOFFSETTO:-0400
TZNAME:EDT
DTSTART:20260308T070000
END:DAYLIGHT
BEGIN:STANDARD
TZOFFSETFROM:-0400
TZOFFSETTO:-0500
TZNAME:EST
DTSTART:20261101T060000
END:STANDARD
BEGIN:DAYLIGHT
TZOFFSETFROM:-0500
TZOFFSETTO:-0400
TZNAME:EDT
DTSTART:20270314T070000
END:DAYLIGHT
BEGIN:STANDARD
TZOFFSETFROM:-0400
TZOFFSETTO:-0500
TZNAME:EST
DTSTART:20271107T060000
END:STANDARD
END:VTIMEZONE
BEGIN:VEVENT
DTSTART;VALUE=DATE:20260520
DTEND;VALUE=DATE:20260701
DTSTAMP:20260422T225912
CREATED:20260422T152115Z
LAST-MODIFIED:20260422T152115Z
UID:10000081-1779235200-1782863999@artsaccessprogram.org
SUMMARY:Exhibit at MPAC
DESCRIPTION:The third annual Matheny Arts Access exhibition at the Mayo Performing Arts Center will feature a number of paintings and be on display in the Starlight Gallery from May 20 through June 30\, 2026. \nThe Galleries at MPAC are open to ticket holders prior to shows\, during intermission\, by appointment\, and every Tuesday afternoon from 12:00 – 2:00 pm. \nAn opening reception will be announced soon.
URL:https://artsaccessprogram.org/event/exhibit-at-mpac-2026/
LOCATION:Mayo Performing Arts Center\, 100 South Street\, Morristown\, NJ\, 07960\, United States
CATEGORIES:Exhibits
ATTACH;FMTTYPE=image/jpeg:https://artsaccessprogram.org/wp-content/uploads/2026/04/RDan-3473-image_cropped-12x9-1.jpg
END:VEVENT
END:VCALENDAR