BEGIN:VCALENDAR
VERSION:2.0
PRODID:-//Arts Access Program - ECPv6.15.20//NONSGML v1.0//EN
CALSCALE:GREGORIAN
METHOD:PUBLISH
X-ORIGINAL-URL:https://artsaccessprogram.org
X-WR-CALDESC:Events for Arts Access Program
REFRESH-INTERVAL;VALUE=DURATION:PT1H
X-Robots-Tag:noindex
X-PUBLISHED-TTL:PT1H
BEGIN:VTIMEZONE
TZID:America/New_York
BEGIN:DAYLIGHT
TZOFFSETFROM:-0500
TZOFFSETTO:-0400
TZNAME:EDT
DTSTART:20240310T070000
END:DAYLIGHT
BEGIN:STANDARD
TZOFFSETFROM:-0400
TZOFFSETTO:-0500
TZNAME:EST
DTSTART:20241103T060000
END:STANDARD
BEGIN:DAYLIGHT
TZOFFSETFROM:-0500
TZOFFSETTO:-0400
TZNAME:EDT
DTSTART:20250309T070000
END:DAYLIGHT
BEGIN:STANDARD
TZOFFSETFROM:-0400
TZOFFSETTO:-0500
TZNAME:EST
DTSTART:20251102T060000
END:STANDARD
BEGIN:DAYLIGHT
TZOFFSETFROM:-0500
TZOFFSETTO:-0400
TZNAME:EDT
DTSTART:20260308T070000
END:DAYLIGHT
BEGIN:STANDARD
TZOFFSETFROM:-0400
TZOFFSETTO:-0500
TZNAME:EST
DTSTART:20261101T060000
END:STANDARD
END:VTIMEZONE
BEGIN:VEVENT
DTSTART;TZID=America/New_York:20250416T170000
DTEND;TZID=America/New_York:20250416T190000
DTSTAMP:20260422T125201
CREATED:20250408T202039Z
LAST-MODIFIED:20250423T144155Z
UID:10000036-1744822800-1744830000@artsaccessprogram.org
SUMMARY:Opening reception for exhibit at MPAC
DESCRIPTION:Join us for an opening reception on April 16\, from 5-7 pm at the Mayo Performing Arts Center. This event is free\, no registration required. \nThe Arts Access exhibit will be on display in the Starlight Gallery from April 16 through May 18\, 2025. The Galleries at MPAC are open to ticket holders prior to shows\, during intermission\, by appointment\, and every Tuesday afternoon from 12:00 – 2:00 pm. \n 
URL:https://artsaccessprogram.org/event/exhibit-at-mpac-2025-reception/
LOCATION:Mayo Performing Arts Center\, 100 South Street\, Morristown\, NJ\, 07960\, United States
CATEGORIES:Exhibit Receptions
ATTACH;FMTTYPE=image/jpeg:https://artsaccessprogram.org/wp-content/uploads/2025/04/AZac_2287_cropped-blog.jpg
END:VEVENT
END:VCALENDAR