BEGIN:VCALENDAR
VERSION:2.0
PRODID:-//Arts Access Program - ECPv6.15.20//NONSGML v1.0//EN
CALSCALE:GREGORIAN
METHOD:PUBLISH
X-WR-CALNAME:Arts Access Program
X-ORIGINAL-URL:https://artsaccessprogram.org
X-WR-CALDESC:Events for Arts Access Program
REFRESH-INTERVAL;VALUE=DURATION:PT1H
X-Robots-Tag:noindex
X-PUBLISHED-TTL:PT1H
BEGIN:VTIMEZONE
TZID:America/New_York
BEGIN:DAYLIGHT
TZOFFSETFROM:-0500
TZOFFSETTO:-0400
TZNAME:EDT
DTSTART:20200308T070000
END:DAYLIGHT
BEGIN:STANDARD
TZOFFSETFROM:-0400
TZOFFSETTO:-0500
TZNAME:EST
DTSTART:20201101T060000
END:STANDARD
BEGIN:DAYLIGHT
TZOFFSETFROM:-0500
TZOFFSETTO:-0400
TZNAME:EDT
DTSTART:20210314T070000
END:DAYLIGHT
BEGIN:STANDARD
TZOFFSETFROM:-0400
TZOFFSETTO:-0500
TZNAME:EST
DTSTART:20211107T060000
END:STANDARD
BEGIN:DAYLIGHT
TZOFFSETFROM:-0500
TZOFFSETTO:-0400
TZNAME:EDT
DTSTART:20220313T070000
END:DAYLIGHT
BEGIN:STANDARD
TZOFFSETFROM:-0400
TZOFFSETTO:-0500
TZNAME:EST
DTSTART:20221106T060000
END:STANDARD
BEGIN:DAYLIGHT
TZOFFSETFROM:-0500
TZOFFSETTO:-0400
TZNAME:EDT
DTSTART:20230312T070000
END:DAYLIGHT
BEGIN:STANDARD
TZOFFSETFROM:-0400
TZOFFSETTO:-0500
TZNAME:EST
DTSTART:20231105T060000
END:STANDARD
BEGIN:DAYLIGHT
TZOFFSETFROM:-0500
TZOFFSETTO:-0400
TZNAME:EDT
DTSTART:20240310T070000
END:DAYLIGHT
BEGIN:STANDARD
TZOFFSETFROM:-0400
TZOFFSETTO:-0500
TZNAME:EST
DTSTART:20241103T060000
END:STANDARD
BEGIN:DAYLIGHT
TZOFFSETFROM:-0500
TZOFFSETTO:-0400
TZNAME:EDT
DTSTART:20250309T070000
END:DAYLIGHT
BEGIN:STANDARD
TZOFFSETFROM:-0400
TZOFFSETTO:-0500
TZNAME:EST
DTSTART:20251102T060000
END:STANDARD
BEGIN:DAYLIGHT
TZOFFSETFROM:-0500
TZOFFSETTO:-0400
TZNAME:EDT
DTSTART:20260308T070000
END:DAYLIGHT
BEGIN:STANDARD
TZOFFSETFROM:-0400
TZOFFSETTO:-0500
TZNAME:EST
DTSTART:20261101T060000
END:STANDARD
END:VTIMEZONE
BEGIN:VEVENT
DTSTART;TZID=America/New_York:20251108T150000
DTEND;TZID=America/New_York:20251108T180000
DTSTAMP:20260424T125355
CREATED:20250501T195906Z
LAST-MODIFIED:20250827T171215Z
UID:10000054-1762614000-1762624800@artsaccessprogram.org
SUMMARY:Full Circle 2025: The Making of an Artist
DESCRIPTION:One of the most highly anticipated events at Arts Access\, Full Circle is a multi-disciplinary fine arts showcase featuring original work created by the Arts Access artists. \nJoin us on Saturday\, November 8th for Full Circle 2025: The Making of an Artist. \nFull Circle features two main components: a fine art gallery exhibition and a multi-media stage show. The gallery exhibition showcases acrylic paintings\, digital paintings\, and sculpture\, while the stage show presents choreography\, dramatic works\, and staged readings of creative writing. We are proud to celebrate and share the exceptional work created by the Arts Access artists in the visual\, literary\, and performing arts. Please join us on November 8th as the Arts Access artists present their work and demonstrate that they are not defined by what they can’t do\, but by what they can do.
URL:https://artsaccessprogram.org/event/full-circle-2025/
LOCATION:Robert Schonhorn Arts Center\, 65 Highland Avenue\, Peapack\, 07977\, United States
CATEGORIES:Multidisciplinary Events
ATTACH;FMTTYPE=image/jpeg:https://artsaccessprogram.org/wp-content/uploads/2025/05/FC25_web-banner.jpg
END:VEVENT
BEGIN:VEVENT
DTSTART;TZID=America/New_York:20241020T150000
DTEND;TZID=America/New_York:20241020T160000
DTSTAMP:20260424T125355
CREATED:20240909T205844Z
LAST-MODIFIED:20250410T200258Z
UID:10000031-1729436400-1729440000@artsaccessprogram.org
SUMMARY:Writing Workshop - All Abilities Art Fest
DESCRIPTION:This event is part of the All Abilities Art Fest. \nJoin us for an invigorating workshop geared towards writers of all experience levels. Whether you’re a new writer or an established author\, come find inspiration from the art on the walls and the breathtaking views atop the hill at Matheny. Remember to bring your own writing essentials – be it pen and paper\, a laptop\, or your trusty iPad – for this stimulating one hour workshop. \nThis event is free\, but registration is required. \nThis workshop is presented by ARTS By The People. \n  \n\nWhen registering online\, please keep the following in mind. Once you finish filling out the registration form and click the Finish button\, the window should turn grey for a couple seconds then revert to normal. This means your registration is complete\, even if the registration window remains open. If you have any questions or concerns about registration\, please contact us: heather@artsaccessprogram.org
URL:https://artsaccessprogram.org/event/writing-workshop-all-abilities-art-fest/
LOCATION:Robert Schonhorn Arts Center\, 65 Highland Avenue\, Peapack\, 07977\, United States
CATEGORIES:Multidisciplinary Events
ATTACH;FMTTYPE=image/jpeg:https://artsaccessprogram.org/wp-content/uploads/2024/09/stanley-sculpture-autumn_16-9_web.jpg
END:VEVENT
BEGIN:VEVENT
DTSTART;TZID=America/New_York:20241020T110000
DTEND;TZID=America/New_York:20241020T120000
DTSTAMP:20260424T125355
CREATED:20241002T171722Z
LAST-MODIFIED:20250410T200335Z
UID:10000032-1729422000-1729425600@artsaccessprogram.org
SUMMARY:Yoga Workshop - All Abilities Art Fest
DESCRIPTION:This event is part of the All Abilities Art Fest. \nUnwind and reconnect with your body through purposeful movement in this refreshing yoga workshop. Participants will be guided through gentle poses that synchronize with their breath\, allowing them to de-stress and embrace the tranquility of the season. Please bring your own mat or towel to the workshop. \nThis event is free\, but registration is required. \nThank you to Kate Hewson for leading this workshop! \n  \n\nWhen registering online\, please keep the following in mind. You cannot complete registration without agreeing to the Waiver. And once you finish filling out the registration form and click the Finish button\, the window should turn grey for a couple seconds then revert to normal. This means your registration is complete\, even if the registration window remains open. If you have any questions or concerns about registration\, please contact us: heather@artsaccessprogram.org
URL:https://artsaccessprogram.org/event/yoga-workshop-all-abilities-art-fest/
LOCATION:Robert Schonhorn Arts Center\, 65 Highland Avenue\, Peapack\, 07977\, United States
CATEGORIES:Multidisciplinary Events
ATTACH;FMTTYPE=image/jpeg:https://artsaccessprogram.org/wp-content/uploads/2024/09/stanley-sculpture-autumn_16-9_web.jpg
END:VEVENT
BEGIN:VEVENT
DTSTART;TZID=America/New_York:20241020T103000
DTEND;TZID=America/New_York:20241020T183000
DTSTAMP:20260424T125355
CREATED:20240905T151424Z
LAST-MODIFIED:20250410T200347Z
UID:10000030-1729420200-1729449000@artsaccessprogram.org
SUMMARY:All Abilities Art Fest
DESCRIPTION:Join us this October for an all new event from Arts Access\, the All Abilities Art Fest! \nThis all day event is a celebration for everyone who loves art\, including artists and writers with or without disabilities\, art enthusiasts\, art collectors\, friends\, and family! \nFrom morning until sunset on October 20th\, we are inviting you to take in the art and sweeping autumn vistas atop the hill at Matheny. Enjoy activities throughout the day\, including: \n\nart sales of works by artists with disabilities from Arts Access\, JSDD’s WAE Center\, and the Arc of Essex (with discounts on Arts Access artworks)\nplein air painting on the Matheny campus\, presented by the Center for Contemporary Art\nwriting workshop\, presented by ARTS By The People\nliterary open mic\, presented by ARTS By The People\nyoga workshop\, lead by Kate Hewson\n\n  \nWhat’s more\, this event is free for all to attend! Some activities throughout the day will require registration\, please visit the event landing page for details on how to sign up. \nWe hope to see you at this exciting new event!
URL:https://artsaccessprogram.org/event/all-abilities-art-fest-calendar/
LOCATION:Robert Schonhorn Arts Center\, 65 Highland Avenue\, Peapack\, 07977\, United States
CATEGORIES:Multidisciplinary Events
ATTACH;FMTTYPE=image/jpeg:https://artsaccessprogram.org/wp-content/uploads/2024/09/stanley-sculpture-autumn_16-9_web.jpg
END:VEVENT
BEGIN:VEVENT
DTSTART;TZID=America/New_York:20231104T150000
DTEND;TZID=America/New_York:20231104T180000
DTSTAMP:20260424T125355
CREATED:20230419T144249Z
LAST-MODIFIED:20250410T200507Z
UID:10000012-1699110000-1699120800@artsaccessprogram.org
SUMMARY:Full Circle 2023: Reemergence
DESCRIPTION:Join us for Full Circle!\n  \nOne of the most highly anticipated events at Arts Access\, Full Circle is a multi-disciplinary fine arts showcase featuring original work created by the Arts Access artists. This year\, Full Circle returns as an in-person celebration of the Arts Access artists. \nJoin us on Saturday\, November 4th for Full Circle 2023: Reemergence. \nFull Circle features two main components: a fine art gallery exhibition and a multi-media stage show. The gallery exhibition showcases acrylic paintings\, digital paintings\, and sculpture\, while the stage show presents choreography\, dramatic works\, and staged readings of creative writing. We are proud to celebrate and share the exceptional work created by the Arts Access artists in the visual\, literary\, and performing arts. Please join us on November 4th as the Arts Access artists present their work and demonstrate that they are not defined by what they can’t do\, but by what they can do. \nIncrease your impact by becoming a Full Circle Sponsor!\nNot interested in becoming a Sponsor\, but still want to offer extra support to the Arts Access artists? Add a donation to your ticket order!
URL:https://artsaccessprogram.org/event/full-circle-2023/
LOCATION:Robert Schonhorn Arts Center\, 65 Highland Avenue\, Peapack\, 07977\, United States
CATEGORIES:Multidisciplinary Events
ATTACH;FMTTYPE=image/jpeg:https://artsaccessprogram.org/wp-content/uploads/2023/04/JLan_2591_cropped_website.jpg
END:VEVENT
BEGIN:VEVENT
DTSTART;TZID=America/New_York:20211106T160000
DTEND;TZID=America/New_York:20211106T160000
DTSTAMP:20260424T125355
CREATED:20210429T205215Z
LAST-MODIFIED:20250410T201351Z
UID:10000009-1636214400-1636214400@artsaccessprogram.org
SUMMARY:Full Circle 2021: Art from Afar
DESCRIPTION:Join us for our first VIRTUAL Full Circle!\nOne of the most highly anticipated events at Arts Access\, Full Circle is a multi-disciplinary fine arts showcase featuring original work created by the Arts Access artists. This year\, Full Circle is being reimagined as a virtual event in order to ensure the health and safety of our artists\, supporters\, and staff. Join us on Saturday\, November 6th for Full Circle 2021: Art from Afar\, streaming live at 4:00 pm. \nFull Circle features two main components: a fine art gallery exhibition and a multi-media stage show\, both of which will be professionally filmed and live-streamed this year. The gallery exhibition showcases acrylic paintings\, digital paintings\, and sculpture\, while the stage show presents choreography\, dramatic works\, and staged readings of creative writing. We are proud to celebrate and share the exceptional work created by the Arts Access artists in the visual\, literary\, and performing arts. Please join us on November 6th as the Arts Access artists present their work and demonstrate that they are not defined by what they can’t do\, but by what they can do. \nClick here to view the digital playbill and the full list of current event sponsors. \nIncrease your impact by becoming a Full Circle Sponsor!\nNot interested in becoming a Sponsor\, but still want to offer extra support to the Arts Access artists? Add a donation to your ticket order!
URL:https://artsaccessprogram.org/event/full-circle-2021/
LOCATION:Online
CATEGORIES:Multidisciplinary Events
ATTACH;FMTTYPE=image/jpeg:https://artsaccessprogram.org/wp-content/uploads/2021/10/IVil_2257_resized-2.jpg
END:VEVENT
END:VCALENDAR