BEGIN:VCALENDAR
VERSION:2.0
PRODID:-//Arts Access Program - ECPv6.15.20//NONSGML v1.0//EN
CALSCALE:GREGORIAN
METHOD:PUBLISH
X-ORIGINAL-URL:https://artsaccessprogram.org
X-WR-CALDESC:Events for Arts Access Program
REFRESH-INTERVAL;VALUE=DURATION:PT1H
X-Robots-Tag:noindex
X-PUBLISHED-TTL:PT1H
BEGIN:VTIMEZONE
TZID:America/New_York
BEGIN:DAYLIGHT
TZOFFSETFROM:-0500
TZOFFSETTO:-0400
TZNAME:EDT
DTSTART:20200308T070000
END:DAYLIGHT
BEGIN:STANDARD
TZOFFSETFROM:-0400
TZOFFSETTO:-0500
TZNAME:EST
DTSTART:20201101T060000
END:STANDARD
BEGIN:DAYLIGHT
TZOFFSETFROM:-0500
TZOFFSETTO:-0400
TZNAME:EDT
DTSTART:20210314T070000
END:DAYLIGHT
BEGIN:STANDARD
TZOFFSETFROM:-0400
TZOFFSETTO:-0500
TZNAME:EST
DTSTART:20211107T060000
END:STANDARD
BEGIN:DAYLIGHT
TZOFFSETFROM:-0500
TZOFFSETTO:-0400
TZNAME:EDT
DTSTART:20220313T070000
END:DAYLIGHT
BEGIN:STANDARD
TZOFFSETFROM:-0400
TZOFFSETTO:-0500
TZNAME:EST
DTSTART:20221106T060000
END:STANDARD
BEGIN:DAYLIGHT
TZOFFSETFROM:-0500
TZOFFSETTO:-0400
TZNAME:EDT
DTSTART:20230312T070000
END:DAYLIGHT
BEGIN:STANDARD
TZOFFSETFROM:-0400
TZOFFSETTO:-0500
TZNAME:EST
DTSTART:20231105T060000
END:STANDARD
BEGIN:DAYLIGHT
TZOFFSETFROM:-0500
TZOFFSETTO:-0400
TZNAME:EDT
DTSTART:20240310T070000
END:DAYLIGHT
BEGIN:STANDARD
TZOFFSETFROM:-0400
TZOFFSETTO:-0500
TZNAME:EST
DTSTART:20241103T060000
END:STANDARD
BEGIN:DAYLIGHT
TZOFFSETFROM:-0500
TZOFFSETTO:-0400
TZNAME:EDT
DTSTART:20250309T070000
END:DAYLIGHT
BEGIN:STANDARD
TZOFFSETFROM:-0400
TZOFFSETTO:-0500
TZNAME:EST
DTSTART:20251102T060000
END:STANDARD
BEGIN:DAYLIGHT
TZOFFSETFROM:-0500
TZOFFSETTO:-0400
TZNAME:EDT
DTSTART:20260308T070000
END:DAYLIGHT
BEGIN:STANDARD
TZOFFSETFROM:-0400
TZOFFSETTO:-0500
TZNAME:EST
DTSTART:20261101T060000
END:STANDARD
BEGIN:DAYLIGHT
TZOFFSETFROM:-0500
TZOFFSETTO:-0400
TZNAME:EDT
DTSTART:20270314T070000
END:DAYLIGHT
BEGIN:STANDARD
TZOFFSETFROM:-0400
TZOFFSETTO:-0500
TZNAME:EST
DTSTART:20271107T060000
END:STANDARD
END:VTIMEZONE
BEGIN:VEVENT
DTSTART;TZID=America/New_York:20260315T160000
DTEND;TZID=America/New_York:20260315T180000
DTSTAMP:20260420T142731
CREATED:20260220T211737Z
LAST-MODIFIED:20260220T211737Z
UID:10000078-1773590400-1773597600@artsaccessprogram.org
SUMMARY:Opening reception for the 46th Annual Juried Exhibition at Monmouth Museum
DESCRIPTION:Arts Access artist Phil Fisher will be featured in the upcoming 46th annual juried exhibition\, A Time Within a Time\, at the Monmouth Museum. \nThis year’s theme\, A Time Within a Time\, invites artists to reflect on the many layers of experience that shape our lives. The theme explores the moments that sit inside other moments\, the memories that define us\, and the ways we understand the passage of time. Artists are encouraged to think deeply about the relationship between past\, present\, and future\, as well as the transformations\, emotions\, and histories that live inside these timelines. \nAn opening reception will be held on March 15 from 4-6 pm. \nView the exhibit from March 15 through May 10\, 2026.
URL:https://artsaccessprogram.org/event/opening-reception-for-the-46th-annual-juried-exhibition-at-monmouth-museum/
LOCATION:Monmouth Museum\, 765 Newman Springs Road\, Lincroft\, New Jersey\, 07738\, United States
CATEGORIES:Exhibit Receptions
ATTACH;FMTTYPE=image/jpeg:https://artsaccessprogram.org/wp-content/uploads/2026/02/About-Time_Phil-F_cropped-16x9-web.jpg
END:VEVENT
BEGIN:VEVENT
DTSTART;TZID=America/New_York:20260217T170000
DTEND;TZID=America/New_York:20260217T190000
DTSTAMP:20260420T142731
CREATED:20260123T192316Z
LAST-MODIFIED:20260123T195546Z
UID:10000072-1771347600-1771354800@artsaccessprogram.org
SUMMARY:Opening reception for Transcending Boundaries at Kean University
DESCRIPTION:Transcending Boundaries: The Artist at Work\, presented by the Galleries at Kean\, will feature paintings\, sculptures\, and poetry by the Matheny Arts Access artists. The exhibition will be on display in the Liberty Hall Academic Center Gallery at Kean University. \nAt the heart of Transcending Boundaries is the idea that art functions as a universal language\, one that extends beyond speech\, culture\, and physical ability. The exhibition celebrates the originality\, authenticity\, and curiosity that define each artist’s practice. \nThis exhibition is part of a series of collaborations throughout 2026 between Matheny Arts Access and Kean University. \nAn opening reception will take place on February 17\, from 5-7 pm. \nView the exhibit from from February 9 through May 1\, 2026.
URL:https://artsaccessprogram.org/event/opening-reception-for-transcending-boundaries-at-kean-university/
LOCATION:Galleries at Kean\, 1003 Morris Avenue #2\, Union\, NJ\, 07083\, United States
CATEGORIES:Exhibit Receptions
ATTACH;FMTTYPE=image/jpeg:https://artsaccessprogram.org/wp-content/uploads/2026/01/CCha_1982_cropped-16x9-1.jpg
ORGANIZER;CN="Galleries at Kean":MAILTO:galleries@kean.edu
END:VEVENT
BEGIN:VEVENT
DTSTART;TZID=America/New_York:20251204T180000
DTEND;TZID=America/New_York:20251204T200000
DTSTAMP:20260420T142731
CREATED:20251113T185853Z
LAST-MODIFIED:20251201T213027Z
UID:10000070-1764871200-1764878400@artsaccessprogram.org
SUMMARY:Opening reception for Outside My Window at CSB Fine Arts
DESCRIPTION:We are thrilled to announce Outside My Window\, a Matheny Arts Access exhibit presented by CSB Fine Arts\, which can be found in the prestigious DUMBO neighborhood of NY\, located between the Brooklyn and Manhattan Bridges\, the area is an epicenter of art and creativity. \nThe gallery at CSB Fine Arts is open Wednesday through Saturday from 1:00-7:00 pm\, and Monday and Tuesday by appointment only. \nAn opening reception will take place on December 4\, from 6-8 pm. \nView the exhibit from December 4 through December 24\, 2025.
URL:https://artsaccessprogram.org/event/opening-reception-for-exhibit-at-csb-fine-arts/
LOCATION:CSB Fine Arts\, 81 Prospect St.\, Suite 104\, Brooklyn\, NY\, 11201\, United States
CATEGORIES:Exhibit Receptions
ATTACH;FMTTYPE=image/jpeg:https://artsaccessprogram.org/wp-content/uploads/2025/11/BGold-3898_cropped-16x9-blog.jpg
ORGANIZER;CN="CSB Fine Arts":MAILTO:carolina@csbfinearts.com
END:VEVENT
BEGIN:VEVENT
DTSTART;TZID=America/New_York:20251009T180000
DTEND;TZID=America/New_York:20251009T210000
DTSTAMP:20260420T142731
CREATED:20250815T180414Z
LAST-MODIFIED:20250815T180414Z
UID:10000063-1760032800-1760043600@artsaccessprogram.org
SUMMARY:Opening reception for the WAE Open at the Heidi Gallery at JSDD
DESCRIPTION:Arts Access artist Tammy Heppner will be featured in the upcoming annual juried exhibition\, The WAE Open at the Heidi Gallery at JSDD. \nThe WAE Open is not thematic; rather\, the exhibition seeks to showcase the highest quality visual art being made by established\, emerging\, and underrepresented artists. Tammy will have two paintings included in the exhibit. “Carousels in Knoebels Park in Pennsylvania” will be on display as part of both the in-person and digital exhibit\, while “Road Runners” will be featured exclusively in the digital exhibit. \nAn opening reception will be held on October 9 from 6-9 pm. \nView the exhibit from October 9 through December 7\, 2025.
URL:https://artsaccessprogram.org/event/opening-reception-for-the-wae-open-at-the-heidi-gallery-at-jsdd-2025/
LOCATION:Heidi Gallery at JSDD\, 310 Eisenhower Parkway\, Livingston\, NJ\, 07039\, United States
CATEGORIES:Exhibit Receptions
ATTACH;FMTTYPE=image/jpeg:https://artsaccessprogram.org/wp-content/uploads/2025/08/THep_1646-cropped-16x9-blog.jpg
END:VEVENT
BEGIN:VEVENT
DTSTART;TZID=America/New_York:20250928T130000
DTEND;TZID=America/New_York:20250928T153000
DTSTAMP:20260420T142731
CREATED:20250925T161815Z
LAST-MODIFIED:20250925T161815Z
UID:10000066-1759064400-1759073400@artsaccessprogram.org
SUMMARY:Opening reception for Gratitude\, Fall Members Art Exhibition\, at Farmstead Arts
DESCRIPTION:Arts Access artists Chet Cheesman and Phil Fisher will be featured in the upcoming Gratitude\, the Fall Members Art Exhibition\, at Farmstead Arts Center. \nGratitude will feature original works about personal expressions of thankfulness. Artists were invited to reflect on the people\, places\, and moments that inspire thankfulness. Artists in the exhibit have chosen to interpret the theme in many ways\, including honoring someone who’s shaped their lives\, capturing a quiet moment of beauty\, or reflecting on the comforts of home and community. \nAn opening reception will be held on September 28 from 1-3:30 pm. \nView the exhibit from September 28 through November 2\, 2025.
URL:https://artsaccessprogram.org/event/opening-reception-for-gratitude-fall-members-art-exhibition-at-farmstead-arts/
LOCATION:Farmstead Arts Center\, 456 King George Road\, Basking Ridge\, NJ\, 07920\, United States
CATEGORIES:Exhibit Receptions
ATTACH;FMTTYPE=image/jpeg:https://artsaccessprogram.org/wp-content/uploads/2025/09/PFis_2511-cropped-16x9-1.jpg
END:VEVENT
BEGIN:VEVENT
DTSTART;TZID=America/New_York:20250913T150000
DTEND;TZID=America/New_York:20250913T170000
DTSTAMP:20260420T142731
CREATED:20250815T153930Z
LAST-MODIFIED:20250825T201713Z
UID:10000060-1757775600-1757782800@artsaccessprogram.org
SUMMARY:Opening reception for Formless exhibit at Drawing Rooms
DESCRIPTION:Arts Access artist Nancy Soto will be featured in the upcoming Formless exhibit at Drawing Rooms. \nThe exhibit features works that project a sense of poetic lightness\, fragility\, and etherealness in weight\, volume\, color\, or mass\, or that may be atmospheric and seem to defy gravity. Some of the works may evoke within the viewer a meditative sense of calm\, in others\, a sense of mystery. \nAn opening reception will be held on September 13 from 3-5 pm. \nView the exhibit from September 13 through October 5\, 2025.
URL:https://artsaccessprogram.org/event/formless-exhibit-at-drawing-rooms-reception/
LOCATION:Drawing Rooms\, 926 Newark Avenue\, #T101\, Jersey City\, NJ\, 07306\, United States
CATEGORIES:Exhibit Receptions
ATTACH;FMTTYPE=image/jpeg:https://artsaccessprogram.org/wp-content/uploads/2025/08/NSot_2450_cropped-16x9-blog.jpg
ORGANIZER;CN="Drawing Rooms":MAILTO:info@drawingrooms.org
END:VEVENT
BEGIN:VEVENT
DTSTART;TZID=America/New_York:20250713T140000
DTEND;TZID=America/New_York:20250713T160000
DTSTAMP:20260420T142731
CREATED:20250528T160051Z
LAST-MODIFIED:20250703T193918Z
UID:10000057-1752415200-1752422400@artsaccessprogram.org
SUMMARY:Opening Reception for Summer Symbiosis
DESCRIPTION:Join us for an opening reception on July 13\, from 2:00 to 4:00 pm at the Heidi Gallery at JSDD. This event is free\, no registration required. \nSummer Symbiosis\, a collaborative exhibit featuring artists from Matheny Arts Access and the JSDD’s WAE Center\, will be on display in the Heidi Gallery at JSDD from July 7 through August 10\, 2025. The Heidi Gallery is open Monday through Friday from 9:00 am to 5:00 pm\, and by appointment on evenings and weekends. \n 
URL:https://artsaccessprogram.org/event/summer-symbiosis-2025-reception/
LOCATION:Heidi Gallery at JSDD\, 310 Eisenhower Parkway\, Livingston\, NJ\, 07039\, United States
CATEGORIES:Exhibit Receptions
ATTACH;FMTTYPE=image/png:https://artsaccessprogram.org/wp-content/uploads/2025/05/Summer-Symbiosis-2025-promo_email.png
END:VEVENT
BEGIN:VEVENT
DTSTART;TZID=America/New_York:20250501T183000
DTEND;TZID=America/New_York:20250501T183000
DTSTAMP:20260420T142731
CREATED:20250411T193229Z
LAST-MODIFIED:20250815T152611Z
UID:10000042-1746124200-1746124200@artsaccessprogram.org
SUMMARY:Opening reception for Access for All Art Show at Hillsdale Public Library
DESCRIPTION:Arts Access artist Cindy Shanks will be featured in the upcoming Access for All Art Show at Hillsdale Public Library. \nThis will be the 5th Annual Art Show for People with Disabilities at the Hillsdale Public Library. The artwork featured in this show reflects on the theme: “What Does It Mean to be Included?” \nAn opening reception will be held on May 1 at 6:30 pm. \nView the exhibit from May 1 through May 31\, 2025.
URL:https://artsaccessprogram.org/event/access-for-all-art-show-at-hillsdale-public-library-reception/
LOCATION:Online
CATEGORIES:Exhibit Receptions
ATTACH;FMTTYPE=image/jpeg:https://artsaccessprogram.org/wp-content/uploads/2025/04/Hillsdale-Library_CSha-2620-untitled_cropped-16x9-1.jpg
END:VEVENT
BEGIN:VEVENT
DTSTART;TZID=America/New_York:20250426T130000
DTEND;TZID=America/New_York:20250426T160000
DTSTAMP:20260420T142731
CREATED:20250408T203026Z
LAST-MODIFIED:20250410T190232Z
UID:10000037-1745672400-1745683200@artsaccessprogram.org
SUMMARY:Opening reception for Members Juried Art Exhibit at the Farmstead Arts Center
DESCRIPTION:Join us for an opening reception on April 26 from 1-4 pm at the Farmstead Arts Center. This event is free\, no registration required. \nTwo artists from Arts Access\, Misty Hockenbury and Phil Fisher\, will each have a painting in the upcoming Members Juried Art Exhibit at the Farmstead Arts Center. The Members Juried Art Exhibit will be on display from April 26 through May 30\, 2025.
URL:https://artsaccessprogram.org/event/members-juried-art-exhibit-at-the-farmstead-arts-center-2025-reception/
LOCATION:Farmstead Arts Center\, 456 King George Road\, Basking Ridge\, NJ\, 07920\, United States
CATEGORIES:Exhibit Receptions
ATTACH;FMTTYPE=image/jpeg:https://artsaccessprogram.org/wp-content/uploads/2025/04/PFis_1305_blog.jpg
END:VEVENT
BEGIN:VEVENT
DTSTART;TZID=America/New_York:20250416T170000
DTEND;TZID=America/New_York:20250416T190000
DTSTAMP:20260420T142731
CREATED:20250408T202039Z
LAST-MODIFIED:20250423T144155Z
UID:10000036-1744822800-1744830000@artsaccessprogram.org
SUMMARY:Opening reception for exhibit at MPAC
DESCRIPTION:Join us for an opening reception on April 16\, from 5-7 pm at the Mayo Performing Arts Center. This event is free\, no registration required. \nThe Arts Access exhibit will be on display in the Starlight Gallery from April 16 through May 18\, 2025. The Galleries at MPAC are open to ticket holders prior to shows\, during intermission\, by appointment\, and every Tuesday afternoon from 12:00 – 2:00 pm. \n 
URL:https://artsaccessprogram.org/event/exhibit-at-mpac-2025-reception/
LOCATION:Mayo Performing Arts Center\, 100 South Street\, Morristown\, NJ\, 07960\, United States
CATEGORIES:Exhibit Receptions
ATTACH;FMTTYPE=image/jpeg:https://artsaccessprogram.org/wp-content/uploads/2025/04/AZac_2287_cropped-blog.jpg
END:VEVENT
BEGIN:VEVENT
DTSTART;TZID=America/New_York:20250415T190000
DTEND;TZID=America/New_York:20250415T190000
DTSTAMP:20260420T142731
CREATED:20250411T185758Z
LAST-MODIFIED:20250411T190338Z
UID:10000040-1744743600-1744743600@artsaccessprogram.org
SUMMARY:Opening reception for The Color of Rebellion presented by Inside Small
DESCRIPTION:Arts Access artists Cheryl Chapin and Ben Cuison will be featured in the upcoming virtual exhibit The Color of Rebellion\, presented by Inside Small. \nThis online exhibit features work from 75 diverse artists whose work reflects on the theme of “the color of rebellion.” \nAn opening reception will be held on April 15 at 7:00 pm. Register for the reception: https://tinyurl.com/rebellionart  \nView the exhibit online from April 15 through June 15\, 2025.
URL:https://artsaccessprogram.org/event/the-color-of-rebellion-presented-by-inside-small-reception/
LOCATION:Online
CATEGORIES:Exhibit Receptions
ATTACH;FMTTYPE=image/jpeg:https://artsaccessprogram.org/wp-content/uploads/2025/04/Color-of-Rebellion_CCha_2326_cropped-16x9-1.jpg
END:VEVENT
BEGIN:VEVENT
DTSTART;TZID=America/New_York:20240728T140000
DTEND;TZID=America/New_York:20240728T160000
DTSTAMP:20260420T142731
CREATED:20240705T204805Z
LAST-MODIFIED:20250410T200400Z
UID:10000029-1722175200-1722182400@artsaccessprogram.org
SUMMARY:Summer Symbiosis - Opening Reception
DESCRIPTION:Since the spring of 2011\, the Matheny Arts Access Program and the WAE Center at JSDD have come together every year to showcase the talents and achievements of artists with intellectual and developmental disabilities in New Jersey. \nSummer Symbiosis is a collaborative exhibit featuring these two organizations\, fifty artists\, and innumerable possibilities. It celebrates the artists of both organizations as well as the long-established relationship between them. \n\n\n\n\nPlease join the artists for an opening reception on Sunday\, July 28 from 2 – 4 pm.
URL:https://artsaccessprogram.org/event/summer-symbiosis-reception/
LOCATION:Heidi Gallery at JSDD\, 310 Eisenhower Parkway\, Livingston\, NJ\, 07039\, United States
CATEGORIES:Exhibit Receptions
ATTACH;FMTTYPE=image/jpeg:https://artsaccessprogram.org/wp-content/uploads/2024/07/Summer-Symbiosis_event-banner.jpg
END:VEVENT
BEGIN:VEVENT
DTSTART;TZID=America/New_York:20231005T170000
DTEND;TZID=America/New_York:20231005T190000
DTSTAMP:20260420T142731
CREATED:20230930T140005Z
LAST-MODIFIED:20250410T200519Z
UID:10000026-1696525200-1696532400@artsaccessprogram.org
SUMMARY:Counterpoint - Opening Reception
DESCRIPTION:Join us for an in-person opening reception for the Counterpoint exhibit at the Center for Contemporary Art on October 5\, from 5:00 pm to 7:00 pm. \n\n\nView the art and meet some of the artists! \nThe exhibit will be on display from September 30 – December 8 in the second-floor gallery space at the Center for Contemporary Art. The Center’s gallery is open Mondays-Thursdays from 9:00 am to 5:00 pm\, Fridays from 9:00 am to 3:00 pm\, Saturdays from 9:00 am to 5:00 pm\, and Sundays from 10:00 am to 2:00 pm. The Center is located at 2020 Burnt Mills Road in Bedminster\, NJ. \nAlso join us for a Facilitation Experience workshop on Monday\, November 13 at 6 pm. More details coming soon! \nLearn more about the exhibit HERE.
URL:https://artsaccessprogram.org/event/counterpoint-reception/
LOCATION:The Center for Contemporary Art\, 2020 Burnt Mills Road\, Bedminster\, NJ\, 07921\, United States
CATEGORIES:Exhibit Receptions
ATTACH;FMTTYPE=image/jpeg:https://artsaccessprogram.org/wp-content/uploads/2023/08/Counterpoint_CCA.jpg
END:VEVENT
BEGIN:VEVENT
DTSTART;TZID=America/New_York:20230626T180000
DTEND;TZID=America/New_York:20230626T190000
DTSTAMP:20260420T142731
CREATED:20230602T192506Z
LAST-MODIFIED:20250410T200613Z
UID:10000001-1687802400-1687806000@artsaccessprogram.org
SUMMARY:Collaborative ARTS Exhibit at Rutgers NJMS 2023 - Opening Reception
DESCRIPTION:Join us online for this FREE event. This virtual artists reception provides the opportunity to hear directly from the artists of both Arts Access and JSDD’s WAE Center as they share their thoughts on art\, the creative process\, and showing their work in the annual Collaborative ARTS Exhibit at Rutgers NJMS. \nJoin Zoom Meeting\nhttps://matheny-org.zoom.us/j/82159573246?pwd=enM4bWEyNE5KRFl3MWg1WmR1MTdaUT09 \nMeeting ID: 821 5957 3246\nPasscode: 504755 \nLearn more about the 13th annual NJMS Collaborative ARTS Exhibit here.
URL:https://artsaccessprogram.org/event/collaborative-arts-exhibit-at-rutgers-njms-2023-reception/
LOCATION:Online
CATEGORIES:Exhibit Receptions
ATTACH;FMTTYPE=image/jpeg:https://artsaccessprogram.org/wp-content/uploads/2023/06/Collaborative-ARTS-Exhibit-2023_Rutgers.jpg
END:VEVENT
BEGIN:VEVENT
DTSTART;TZID=America/New_York:20230430T130000
DTEND;TZID=America/New_York:20230430T150000
DTSTAMP:20260420T142731
CREATED:20230420T182117Z
LAST-MODIFIED:20250410T200637Z
UID:10000022-1682859600-1682866800@artsaccessprogram.org
SUMMARY:For Art's Sake - Opening Reception
DESCRIPTION:Join Arts Access and the Monmouth Museum for an opening reception of the For Art’s Sake exhibit! Featuring acrylic paintings and drawings by 20 Arts Access artists\, this exhibit highlights artists and artwork that embody the idea that art is created for the purpose of art itself\, and for enjoying the process of creating it. \n\n\nThe For Art’s Sake exhibit will be on display from April 28 – June 4 in the Nilson Gallery at Monmouth Museum. The Museum Galleries are open Tuesdays-Fridays from 12:30 pm to 4:00 pm\, Saturdays & Sundays from 10:00 am to 4:00 pm\, and is closed on Mondays. The Museum is located on the campus of Brookdale Community College\, follow signs for Lot 1 when you arrive. \n\n\n 
URL:https://artsaccessprogram.org/event/for-arts-sake-reception/
LOCATION:Monmouth Museum\, 765 Newman Springs Road\, Lincroft\, New Jersey\, 07738\, United States
CATEGORIES:Exhibit Receptions
ATTACH;FMTTYPE=image/jpeg:https://artsaccessprogram.org/wp-content/uploads/2023/04/For-Arts-Sake_Monmouth-Museum.jpg
END:VEVENT
BEGIN:VEVENT
DTSTART;TZID=America/New_York:20220718T180000
DTEND;TZID=America/New_York:20220718T190000
DTSTAMP:20260420T142731
CREATED:20220624T194851Z
LAST-MODIFIED:20250410T201213Z
UID:10000020-1658167200-1658170800@artsaccessprogram.org
SUMMARY:Rutgers NJMS Collaborative ARTS Exhibit 2022 - Virtual Reception
DESCRIPTION:Join us online for this FREE event. This virtual artists reception provides the opportunity to hear directly from the artists of both Arts Access and JSDD’s WAE Center as they share their thoughts on art\, the creative process\, and showing their work in the annual Collaborative ARTS Exhibit at Rutgers NJMS. \nView the exhibit online here. \nLearn more about the 12th annual NJMS Collaborative ARTS Exhibit here. \nJoin the Virtual Reception on Zoom:\nhttps://matheny-org.zoom.us/j/81244697519?pwd=NGlvbmw5VjZqUTRTZ3R5SDRPcTdNdz09 \nMeeting ID: 812 4469 7519\nPasscode: 594384
URL:https://artsaccessprogram.org/event/njms-collaborative-arts-exhibit-2022-virtual-reception/
LOCATION:Zoom
CATEGORIES:Exhibit Receptions
ATTACH;FMTTYPE=image/png:https://artsaccessprogram.org/wp-content/uploads/2022/06/Rutgers-2022_gallery1-1.png
END:VEVENT
BEGIN:VEVENT
DTSTART;TZID=America/New_York:20210816T180000
DTEND;TZID=America/New_York:20210816T190000
DTSTAMP:20260420T142731
CREATED:20210716T211011Z
LAST-MODIFIED:20250410T201412Z
UID:10000008-1629136800-1629140400@artsaccessprogram.org
SUMMARY:Rutgers NJMS Collaborative ARTS Exhibit 2021 - Virtual Reception
DESCRIPTION:Join us online for this FREE event. This virtual artists reception provides the opportunity to hear directly from the artists of both Arts Access and JSDD’s WAE Center as they share their thoughts on art\, the creative process\, and showing their work in the annual Collaborative ARTS Exhibit at Rutgers NJMS. \nView the exhibit online here. \nLearn more about the 11th annual NJMS Collaborative ARTS Exhibit here.
URL:https://artsaccessprogram.org/event/njms-collaborative-arts-exhibit-2021-virtual-reception/
LOCATION:Zoom
CATEGORIES:Exhibit Receptions
ATTACH;FMTTYPE=image/jpeg:https://artsaccessprogram.org/wp-content/uploads/2021/06/PaulSanto_ARedCircle003.jpg
END:VEVENT
END:VCALENDAR