BEGIN:VCALENDAR
VERSION:2.0
PRODID:-//Arts Access Program - ECPv6.15.20//NONSGML v1.0//EN
CALSCALE:GREGORIAN
METHOD:PUBLISH
X-WR-CALNAME:Arts Access Program
X-ORIGINAL-URL:https://artsaccessprogram.org
X-WR-CALDESC:Events for Arts Access Program
REFRESH-INTERVAL;VALUE=DURATION:PT1H
X-Robots-Tag:noindex
X-PUBLISHED-TTL:PT1H
BEGIN:VTIMEZONE
TZID:America/New_York
BEGIN:DAYLIGHT
TZOFFSETFROM:-0500
TZOFFSETTO:-0400
TZNAME:EDT
DTSTART:20250309T070000
END:DAYLIGHT
BEGIN:STANDARD
TZOFFSETFROM:-0400
TZOFFSETTO:-0500
TZNAME:EST
DTSTART:20251102T060000
END:STANDARD
BEGIN:DAYLIGHT
TZOFFSETFROM:-0500
TZOFFSETTO:-0400
TZNAME:EDT
DTSTART:20260308T070000
END:DAYLIGHT
BEGIN:STANDARD
TZOFFSETFROM:-0400
TZOFFSETTO:-0500
TZNAME:EST
DTSTART:20261101T060000
END:STANDARD
BEGIN:DAYLIGHT
TZOFFSETFROM:-0500
TZOFFSETTO:-0400
TZNAME:EDT
DTSTART:20270314T070000
END:DAYLIGHT
BEGIN:STANDARD
TZOFFSETFROM:-0400
TZOFFSETTO:-0500
TZNAME:EST
DTSTART:20271107T060000
END:STANDARD
END:VTIMEZONE
BEGIN:VEVENT
DTSTART;TZID=America/New_York:20260712T140000
DTEND;TZID=America/New_York:20260712T160000
DTSTAMP:20260423T072927
CREATED:20260422T161728Z
LAST-MODIFIED:20260422T161728Z
UID:10000084-1783864800-1783872000@artsaccessprogram.org
SUMMARY:Opening Reception for Summer Symbiosis
DESCRIPTION:Matheny Arts Access and JSDD’s WAE Center come together for the third annual Summer Symbiosis\, a collaborative exhibit featuring artists from both organizations\, on display in the Robert Schonhorn Arts Center at Matheny. \nThe gallery at the Robert Schonhorn Arts Center is open by appointment Monday through Friday from 9:00 am to 5:00 pm. \nAn opening reception will take place on July 12\, from 2-4 pm. \nView the exhibit from July 12 through August 30\, 2026. \n  \n 
URL:https://artsaccessprogram.org/event/summer-symbiosis-2026-reception/
LOCATION:Robert Schonhorn Arts Center\, 65 Highland Avenue\, Peapack\, 07977\, United States
CATEGORIES:Exhibit Receptions
ATTACH;FMTTYPE=image/jpeg:https://artsaccessprogram.org/wp-content/uploads/2026/04/JEva-4128-image_cropped-12x9-web.jpg
END:VEVENT
END:VCALENDAR